BEGIN:VCALENDAR
VERSION:2.0
PRODID:-//Tukios.com/
BEGIN:VEVENT
UID:6713e801-41f2-4e93-bf8a-7bf41fc2604e@www.morganfhbremenohio.com
DTSTAMP:20260422T013032Z
DTSTART:20260506T190000Z
DTEND:20260506T230000Z
SUMMARY:Visitation
DESCRIPTION:
URL:https://www.morganfhbremenohio.com/obituaries/ronald-rowley
LOCATION:Morgan Funeral Home 124 Fort Street  Bremen OH 43107
GEO:39.7026461;-82.4292636
END:VEVENT
END:VCALENDAR