BEGIN:VCALENDAR
VERSION:2.0
PRODID:-//Tukios.com/
BEGIN:VEVENT
UID:a4660ce4-33fd-4683-9039-d4d903ec6f22@www.morganfhbremenohio.com
DTSTAMP:20260419T174453Z
DTSTART:20260429T150000Z
DTEND:20260429T160000Z
SUMMARY:Funeral Service
DESCRIPTION:
URL:https://www.morganfhbremenohio.com/obituaries/jacqueline-thompson
LOCATION:Morgan Funeral Home 124 Fort Street  Bremen OH 43107
GEO:39.7026461;-82.4292636
END:VEVENT
END:VCALENDAR