BEGIN:VCALENDAR
VERSION:2.0
PRODID:-//Tukios.com/
BEGIN:VEVENT
UID:0c29d92f-065f-4406-994f-fe15dd8a208b@www.morganfhbremenohio.com
DTSTAMP:20260419T173909Z
DTSTART:20260428T210000Z
DTEND:20260428T230000Z
SUMMARY:Visitation
DESCRIPTION:
URL:https://www.morganfhbremenohio.com/obituaries/jacqueline-thompson
LOCATION:Morgan Funeral Home 124 Fort Street  Bremen OH 43107
GEO:39.7026461;-82.4292636
END:VEVENT
END:VCALENDAR