BEGIN:VCALENDAR
VERSION:2.0
PRODID:-//Tukios.com/
BEGIN:VEVENT
UID:eb7815bc-bfc8-4650-82e1-07580446aee8@www.morganfhbremenohio.com
DTSTAMP:20260420T013336Z
DTSTART:20260430T150000Z
DTEND:20260430T153000Z
SUMMARY:Graveside Service
DESCRIPTION:
URL:https://www.morganfhbremenohio.com/obituaries/carolyn-george
LOCATION:Maple Grove Cemetery 4185 Cincinnati-Zanesville Road NE  
	Lancaster OH 43130
GEO:39.7266953;-82.5179019
END:VEVENT
END:VCALENDAR